BEGIN:VCALENDAR
VERSION:2.0
PRODID:-//NEA - Nätverket för Elektroniska Affärer - ECPv4.5.10.1//NONSGML v1.0//EN
CALSCALE:GREGORIAN
METHOD:PUBLISH
X-WR-CALNAME:NEA - Nätverket för Elektroniska Affärer
X-ORIGINAL-URL:https://www.nea.nu
X-WR-CALDESC:Events for NEA - Nätverket för Elektroniska Affärer
BEGIN:VEVENT
DTSTART;TZID=Europe/Stockholm:20210607T140000
DTEND;TZID=Europe/Stockholm:20210607T153000
DTSTAMP:20260424T231239
CREATED:20210525T074035Z
LAST-MODIFIED:20210527T075322Z
UID:3171-1623074400-1623079800@www.nea.nu
SUMMARY:Webinar: Real Time Economy in Nordic / Baltic region
DESCRIPTION:\n\n\n \nNEA\, the Network of Electronic Business in Sweden invite you to a webinar in cooperation with Ministry of Economic Affairs and Communications\, Estonia and NorStella\, Norway. \nDate: 7 of June\nTime: 14.00-15.30 (Swedish time) \nAgenda \nAnna Elverheim\, Bolagsverket and chairman of NEA\nPresenting NEA and Swedish project in Nordic Smart Government (NSG) \nTrygve Skibeli\, chairman of NorStella\nPresenting NorStella and Norwegian project in Nordic Smart Government \nSirli Heinsoo\, Real-Time Economy Manager at Business and Consumer Environment Department\, Estonia\nPresenting Real Time Economy projec in Estonia/Baltic region\nReal Time Economy\, (RTE) is a digital ecosystem where transactions between different economic actors take place in or near real-time. It means replacing paper-based business transactions and administrative procedures by automatically exchanging digital\, structured and machine-readable data in standardized data formats.  \nRTE concept is currently under development in the Nordic- Baltic Region countries. RTE initiative has common aims and objectives with the Nordic Smart Government and sharing the knowledge and information is regular between these initiatives.RTE acknowledges that a lot of data is created with economic actions\, and the possibility is to use this data multiple times to speed up business procedures\, reduce manual work and increase economic volume. The goal is to finally forget about the paperwork congestion and make it possible for enterprises to focus on business growth. Even more\, RTE concept sees a significant impact and benefit for the green environment and green ICT.\nReal Time Economy | Ministry of Economic Affairs and Communications (mkm.ee) \nSign up\nSign up by sending a mail to kansli@nea.nu write “Sign up RTE-webinar” in subject.\nThe webinar will be via Microsoft Teams and will be recorded. \nWelcome! \n\n\n\n\n
URL:https://www.nea.nu/event/webinar-real-time-economy-in-nordic-baltic-region/
END:VEVENT
END:VCALENDAR