BEGIN:VCALENDAR
VERSION:2.0
PRODID:-//NEA - Nätverket för Elektroniska Affärer - ECPv4.5.10.1//NONSGML v1.0//EN
CALSCALE:GREGORIAN
METHOD:PUBLISH
X-WR-CALNAME:NEA - Nätverket för Elektroniska Affärer
X-ORIGINAL-URL:https://www.nea.nu
X-WR-CALDESC:Events for NEA - Nätverket för Elektroniska Affärer
BEGIN:VEVENT
DTSTART;TZID=Europe/Stockholm:20230620T150000
DTEND;TZID=Europe/Stockholm:20230620T190000
DTSTAMP:20260421T040840
CREATED:20230531T090251Z
LAST-MODIFIED:20230627T114401Z
UID:3353-1687273200-1687287600@www.nea.nu
SUMMARY:NEAs Sommarsmäll 2023
DESCRIPTION:      \nTisdagen den 20e juni bjuder NEA in sina medlemmar till eventet Sommarsmäll i Stockholm. Temat för den här gången är Hållbarhetsrapportering och vi tittar på det ur olika perspektiv. Efter föreläsningarna nätverkar vi med mingel\, dryck och plockmat.\nAgenda och talare \n15.00 – 15.15 Välkomna\, NEAs arbete för fler elektroniska dokument och mål för 2023– Anna Elverheim\, Apix/NEA \n15.15 – 15.45 Hållbarhetsrapportering ur ett företagsperspektiv – Maria Svantemark\, Sustainlab \n15.50 – 16.20 Digitala produktpass – Staffan Olsson\, GS1 \n16.25 – 16.55 Proof of business / SBRs taxonomiarbetet och produktinformation från ett hållbart perspektiv – Thomas Flank\, Bolagsverket \n17.00 – 19.00 Mingel med dryck och plockmat \nEventet är kostnadsfritt och för NEAs medlemmar. Bjud gärna in dina kollegor genom att skicka den här mötesinbjudan vidare. Vi är på United Spaces\, Klarabergsviadukten 63 i Stockholm. \no.s.a.\nAnmäl er genom att maila anna.amgren@nea.nu senast den 13e juni. \nVälkommen! \n
URL:https://www.nea.nu/event/neas-sommarsmall-2023/
LOCATION:Klarabergsviadukten 63\, Stockholm\, 11164\, Sweden
END:VEVENT
END:VCALENDAR