BEGIN:VCALENDAR
VERSION:2.0
PRODID:-//NEA - Nätverket för Elektroniska Affärer - ECPv4.5.10.1//NONSGML v1.0//EN
CALSCALE:GREGORIAN
METHOD:PUBLISH
X-WR-CALNAME:NEA - Nätverket för Elektroniska Affärer
X-ORIGINAL-URL:https://www.nea.nu
X-WR-CALDESC:Events for NEA - Nätverket för Elektroniska Affärer
BEGIN:VEVENT
DTSTART;TZID=Europe/Stockholm:20231207T150000
DTEND;TZID=Europe/Stockholm:20231207T190000
DTSTAMP:20260421T025032
CREATED:20230802T074702Z
LAST-MODIFIED:20231222T142010Z
UID:3390-1701961200-1701975600@www.nea.nu
SUMMARY:NEAs Smällkaramell
DESCRIPTION:Bilder från eventet: \n      \n     \nDen 7e december bjuder vi in till NEAs årliga event; Smällkaramellen\, ett fysiskt event i Stockholm med intressanta talare\, mingel och nätverkande för NEAs medlemmar. \n \nSofie Perslow\nSofie Perslow har tidigare arbetat som CTO på Aller Media och har haft ledande roller på ICA\, främst i deras arbete kring digitalisering\, analys och datadrivet arbetssätt. Chefsorganisationen Ledarna har rankat Sofie som en av de 75 mest inflytelserika kvinnliga ledarna. \nI dag driver hon eget bolag inom AI/fashion tech där hon bland annat utvecklar tjänster som automatiserar och förbättrar personlig styling och shopping med hjälp av helt ny teknik. Hon föreläser om hur man får ut maximalt affärsvärde av digitalisering\, datadrivet arbetssätt och ledarskap kopplat till detta – helt enkelt hur ni kan tjäna på att jobba smartare med data. \n \nFredrik Forsberg\nFredrik arbetar som Innovation Engineer på Visma och kommer bland annat prata om: \n\nHur snabb utvecklingen har varit senaste 18 månaderna inom AI\nHur Visma har tagit sig an AI\, både med exempel vi fått ut i produktion till kund\, men även i vårt egna dagliga arbete\nFramtidsspaning\, vilka förväntningar tror jag/vi att våra kunder har på oss och vilka förväntningar har vi själva; och hur kommer detta påverka allas vardag\n\nAnmäl dig till anna.amgren@nea.nu om du vill vara med! Tipsa gärna en kollega också. \n
URL:https://www.nea.nu/event/neas-smallkaramell/
LOCATION:Klarabergsviadukten 63\, Stockholm\, 11164\, Sweden
END:VEVENT
END:VCALENDAR