BEGIN:VCALENDAR
VERSION:2.0
PRODID:-//NEA - Nätverket för Elektroniska Affärer - ECPv4.5.10.1//NONSGML v1.0//EN
CALSCALE:GREGORIAN
METHOD:PUBLISH
X-WR-CALNAME:NEA - Nätverket för Elektroniska Affärer
X-ORIGINAL-URL:https://www.nea.nu
X-WR-CALDESC:Events for NEA - Nätverket för Elektroniska Affärer
BEGIN:VEVENT
DTSTART;TZID=Europe/Stockholm:20231115T130000
DTEND;TZID=Europe/Stockholm:20231115T143000
DTSTAMP:20260421T041041
CREATED:20230802T074839Z
LAST-MODIFIED:20230802T074839Z
UID:3393-1700053200-1700058600@www.nea.nu
SUMMARY:Forum för Elektronisk Handel
DESCRIPTION:
URL:https://www.nea.nu/event/forum-for-elektronisk-handel-6/
END:VEVENT
END:VCALENDAR